BEGIN:VCALENDAR
VERSION:2.0
PRODID:-//SF EAGLE - ECPv6.15.20//NONSGML v1.0//EN
CALSCALE:GREGORIAN
METHOD:PUBLISH
X-WR-CALNAME:SF EAGLE
X-ORIGINAL-URL:https://sf-eagle.com
X-WR-CALDESC:Events for SF EAGLE
REFRESH-INTERVAL;VALUE=DURATION:PT1H
X-Robots-Tag:noindex
X-PUBLISHED-TTL:PT1H
BEGIN:VTIMEZONE
TZID:America/Los_Angeles
BEGIN:DAYLIGHT
TZOFFSETFROM:-0800
TZOFFSETTO:-0700
TZNAME:PDT
DTSTART:20300310T100000
END:DAYLIGHT
BEGIN:STANDARD
TZOFFSETFROM:-0700
TZOFFSETTO:-0800
TZNAME:PST
DTSTART:20301103T090000
END:STANDARD
BEGIN:DAYLIGHT
TZOFFSETFROM:-0800
TZOFFSETTO:-0700
TZNAME:PDT
DTSTART:20310309T100000
END:DAYLIGHT
BEGIN:STANDARD
TZOFFSETFROM:-0700
TZOFFSETTO:-0800
TZNAME:PST
DTSTART:20311102T090000
END:STANDARD
BEGIN:DAYLIGHT
TZOFFSETFROM:-0800
TZOFFSETTO:-0700
TZNAME:PDT
DTSTART:20320314T100000
END:DAYLIGHT
BEGIN:STANDARD
TZOFFSETFROM:-0700
TZOFFSETTO:-0800
TZNAME:PST
DTSTART:20321107T090000
END:STANDARD
END:VTIMEZONE
BEGIN:VEVENT
DTSTART;TZID=America/Los_Angeles:20310315T210000
DTEND;TZID=America/Los_Angeles:20310316T020000
DTSTAMP:20260423T120204
CREATED:20251029T061908Z
LAST-MODIFIED:20251029T061909Z
UID:10025063-1931374800-1931392800@sf-eagle.com
SUMMARY:YoungHearts
DESCRIPTION:
URL:https://sf-eagle.com/event/younghearts/2031-03-15/
LOCATION:SF Eagle Bar\, 398 12th Street\, San Francisco\, CA\, 94103\, United States
CATEGORIES:Young Hearts
ATTACH;FMTTYPE=image/jpeg:https://sf-eagle.com/wp-content/uploads/2025/10/YOUNGHEARTSPlaceHolder.avif
END:VEVENT
BEGIN:VEVENT
DTSTART;TZID=America/Los_Angeles:20310315T210000
DTEND;TZID=America/Los_Angeles:20310316T020000
DTSTAMP:20260423T120204
CREATED:20260411T181102Z
LAST-MODIFIED:20260411T191532Z
UID:10025126-1931374800-1931392800@sf-eagle.com
SUMMARY:Young Hearts
DESCRIPTION:
URL:https://sf-eagle.com/event/younghearts-7/2031-03-15/
LOCATION:SF Eagle Bar\, 398 12th Street\, San Francisco\, CA\, 94103\, United States
CATEGORIES:Young Hearts
ATTACH;FMTTYPE=image/jpeg:https://sf-eagle.com/wp-content/uploads/2025/10/YHApril-Web.avif
END:VEVENT
BEGIN:VEVENT
DTSTART;TZID=America/Los_Angeles:20310322T180000
DTEND;TZID=America/Los_Angeles:20310322T210000
DTSTAMP:20260423T120204
CREATED:20251216T004026Z
LAST-MODIFIED:20251216T004027Z
UID:10025053-1931968800-1931979600@sf-eagle.com
SUMMARY:The Knotty Bird
DESCRIPTION:Rope Burn SF Presents The Knotty Bird A rope bondage social featuring rope suspension demos by pro riggers and Rope Burn instructors
URL:https://sf-eagle.com/event/the-knotty-bird/2031-03-22/
LOCATION:SF Eagle Bar\, 398 12th Street\, San Francisco\, CA\, 94103\, United States
ATTACH;FMTTYPE=image/jpeg:https://sf-eagle.com/wp-content/uploads/2025/12/The-Knotty-Bird-Web.avif
END:VEVENT
BEGIN:VEVENT
DTSTART;TZID=America/Los_Angeles:20310326T190000
DTEND;TZID=America/Los_Angeles:20310326T210000
DTSTAMP:20260423T120204
CREATED:20260128T193448Z
LAST-MODIFIED:20260128T193449Z
UID:10025127-1932318000-1932325200@sf-eagle.com
SUMMARY:SAFE WORDS
DESCRIPTION:
URL:https://sf-eagle.com/event/safe-words-2/2031-03-26/
LOCATION:SF Eagle Bar\, 398 12th Street\, San Francisco\, CA\, 94103\, United States
END:VEVENT
BEGIN:VEVENT
DTSTART;TZID=America/Los_Angeles:20310405T210000
DTEND;TZID=America/Los_Angeles:20310406T020000
DTSTAMP:20260423T120204
CREATED:20241205T140711Z
LAST-MODIFIED:20241210T210733Z
UID:10025065-1933189200-1933207200@sf-eagle.com
SUMMARY:Filth
DESCRIPTION:SoMa’s Dirty Little Secret. Every First Saturday the SF Eagle becomes packed with Horny Hunks\, Primal Pigs\, Filthy Sounds\, and Play Spaces…\nFilth is a night of Old-school Eagle action that’ll whip you into a frantic frenzy of testosterone induced action. Guaranteed to satisfy the most insatiable pigs\nCome get spanked or stuffed!\n9pm till Close\nDJ Jim Hopkins (S.F. Disco Preservation Society)\nDJ Jimmy DePre (Go Bang!)
URL:https://sf-eagle.com/event/filth-2/2031-04-05/
LOCATION:SF Eagle Bar\, 398 12th Street\, San Francisco\, CA\, 94103\, United States
CATEGORIES:Filth
ATTACH;FMTTYPE=image/jpeg:https://sf-eagle.com/wp-content/uploads/2024/12/FILTHBANNER.avif
END:VEVENT
END:VCALENDAR