BEGIN:VCALENDAR
VERSION:2.0
PRODID:-//SF EAGLE - ECPv6.15.20//NONSGML v1.0//EN
CALSCALE:GREGORIAN
METHOD:PUBLISH
X-WR-CALNAME:SF EAGLE
X-ORIGINAL-URL:https://sf-eagle.com
X-WR-CALDESC:Events for SF EAGLE
REFRESH-INTERVAL;VALUE=DURATION:PT1H
X-Robots-Tag:noindex
X-PUBLISHED-TTL:PT1H
BEGIN:VTIMEZONE
TZID:America/Los_Angeles
BEGIN:DAYLIGHT
TZOFFSETFROM:-0800
TZOFFSETTO:-0700
TZNAME:PDT
DTSTART:20240310T100000
END:DAYLIGHT
BEGIN:STANDARD
TZOFFSETFROM:-0700
TZOFFSETTO:-0800
TZNAME:PST
DTSTART:20241103T090000
END:STANDARD
BEGIN:DAYLIGHT
TZOFFSETFROM:-0800
TZOFFSETTO:-0700
TZNAME:PDT
DTSTART:20250309T100000
END:DAYLIGHT
BEGIN:STANDARD
TZOFFSETFROM:-0700
TZOFFSETTO:-0800
TZNAME:PST
DTSTART:20251102T090000
END:STANDARD
BEGIN:DAYLIGHT
TZOFFSETFROM:-0800
TZOFFSETTO:-0700
TZNAME:PDT
DTSTART:20260308T100000
END:DAYLIGHT
BEGIN:STANDARD
TZOFFSETFROM:-0700
TZOFFSETTO:-0800
TZNAME:PST
DTSTART:20261101T090000
END:STANDARD
END:VTIMEZONE
BEGIN:VEVENT
DTSTART;TZID=America/Los_Angeles:20250511T150000
DTEND;TZID=America/Los_Angeles:20250511T190000
DTSTAMP:20260425T111343
CREATED:20260217T022337Z
LAST-MODIFIED:20260217T022337Z
UID:10023576-1746975600-1746990000@sf-eagle.com
SUMMARY:Beer Bust
DESCRIPTION:Join us for world famous SF Eagle Beer Bust every Sunday benefitting local LGBTQ+ Non Profits and Charities!
URL:https://sf-eagle.com/event/beer-bust-11815/
LOCATION:SF Eagle Bar\, 398 12th Street\, San Francisco\, CA\, 94103\, United States
CATEGORIES:Beer Bust
ATTACH;FMTTYPE=image/webp:https://sf-eagle.com/wp-content/uploads/2024/01/Beer-Bust-Banner.webp
END:VEVENT
BEGIN:VEVENT
DTSTART;TZID=America/Los_Angeles:20250511T150000
DTEND;TZID=America/Los_Angeles:20250511T190000
DTSTAMP:20260425T111343
CREATED:20260217T023834Z
LAST-MODIFIED:20260217T023834Z
UID:10023577-1746975600-1746990000@sf-eagle.com
SUMMARY:Beer Bust
DESCRIPTION:Join us for world famous SF Eagle Beer Bust every Sunday benefitting local LGBTQ+ Non Profits and Charities!
URL:https://sf-eagle.com/event/beer-bust-11816/
LOCATION:SF Eagle Bar\, 398 12th Street\, San Francisco\, CA\, 94103\, United States
CATEGORIES:Beer Bust
ATTACH;FMTTYPE=image/webp:https://sf-eagle.com/wp-content/uploads/2024/01/Beer-Bust-Banner.webp
END:VEVENT
BEGIN:VEVENT
DTSTART;TZID=America/Los_Angeles:20250511T150000
DTEND;TZID=America/Los_Angeles:20250511T190000
DTSTAMP:20260425T111343
CREATED:20260217T025337Z
LAST-MODIFIED:20260217T025337Z
UID:10023578-1746975600-1746990000@sf-eagle.com
SUMMARY:Beer Bust
DESCRIPTION:Join us for world famous SF Eagle Beer Bust every Sunday benefitting local LGBTQ+ Non Profits and Charities!
URL:https://sf-eagle.com/event/beer-bust-11817/
LOCATION:SF Eagle Bar\, 398 12th Street\, San Francisco\, CA\, 94103\, United States
CATEGORIES:Beer Bust
ATTACH;FMTTYPE=image/webp:https://sf-eagle.com/wp-content/uploads/2024/01/Beer-Bust-Banner.webp
END:VEVENT
BEGIN:VEVENT
DTSTART;TZID=America/Los_Angeles:20250511T150000
DTEND;TZID=America/Los_Angeles:20250511T190000
DTSTAMP:20260425T111343
CREATED:20260217T030834Z
LAST-MODIFIED:20260217T030834Z
UID:10023579-1746975600-1746990000@sf-eagle.com
SUMMARY:Beer Bust
DESCRIPTION:Join us for world famous SF Eagle Beer Bust every Sunday benefitting local LGBTQ+ Non Profits and Charities!
URL:https://sf-eagle.com/event/beer-bust-11818/
LOCATION:SF Eagle Bar\, 398 12th Street\, San Francisco\, CA\, 94103\, United States
CATEGORIES:Beer Bust
ATTACH;FMTTYPE=image/webp:https://sf-eagle.com/wp-content/uploads/2024/01/Beer-Bust-Banner.webp
END:VEVENT
BEGIN:VEVENT
DTSTART;TZID=America/Los_Angeles:20250511T150000
DTEND;TZID=America/Los_Angeles:20250511T190000
DTSTAMP:20260425T111343
CREATED:20260217T032335Z
LAST-MODIFIED:20260217T032335Z
UID:10023580-1746975600-1746990000@sf-eagle.com
SUMMARY:Beer Bust
DESCRIPTION:Join us for world famous SF Eagle Beer Bust every Sunday benefitting local LGBTQ+ Non Profits and Charities!
URL:https://sf-eagle.com/event/beer-bust-11819/
LOCATION:SF Eagle Bar\, 398 12th Street\, San Francisco\, CA\, 94103\, United States
CATEGORIES:Beer Bust
ATTACH;FMTTYPE=image/webp:https://sf-eagle.com/wp-content/uploads/2024/01/Beer-Bust-Banner.webp
END:VEVENT
BEGIN:VEVENT
DTSTART;TZID=America/Los_Angeles:20250511T150000
DTEND;TZID=America/Los_Angeles:20250511T190000
DTSTAMP:20260425T111343
CREATED:20260217T033835Z
LAST-MODIFIED:20260217T033835Z
UID:10023581-1746975600-1746990000@sf-eagle.com
SUMMARY:Beer Bust
DESCRIPTION:Join us for world famous SF Eagle Beer Bust every Sunday benefitting local LGBTQ+ Non Profits and Charities!
URL:https://sf-eagle.com/event/beer-bust-11820/
LOCATION:SF Eagle Bar\, 398 12th Street\, San Francisco\, CA\, 94103\, United States
CATEGORIES:Beer Bust
ATTACH;FMTTYPE=image/webp:https://sf-eagle.com/wp-content/uploads/2024/01/Beer-Bust-Banner.webp
END:VEVENT
BEGIN:VEVENT
DTSTART;TZID=America/Los_Angeles:20250511T150000
DTEND;TZID=America/Los_Angeles:20250511T190000
DTSTAMP:20260425T111343
CREATED:20260217T035336Z
LAST-MODIFIED:20260217T035336Z
UID:10023582-1746975600-1746990000@sf-eagle.com
SUMMARY:Beer Bust
DESCRIPTION:Join us for world famous SF Eagle Beer Bust every Sunday benefitting local LGBTQ+ Non Profits and Charities!
URL:https://sf-eagle.com/event/beer-bust-11821/
LOCATION:SF Eagle Bar\, 398 12th Street\, San Francisco\, CA\, 94103\, United States
CATEGORIES:Beer Bust
ATTACH;FMTTYPE=image/webp:https://sf-eagle.com/wp-content/uploads/2024/01/Beer-Bust-Banner.webp
END:VEVENT
BEGIN:VEVENT
DTSTART;TZID=America/Los_Angeles:20250511T150000
DTEND;TZID=America/Los_Angeles:20250511T190000
DTSTAMP:20260425T111343
CREATED:20260217T040836Z
LAST-MODIFIED:20260217T040836Z
UID:10023583-1746975600-1746990000@sf-eagle.com
SUMMARY:Beer Bust
DESCRIPTION:Join us for world famous SF Eagle Beer Bust every Sunday benefitting local LGBTQ+ Non Profits and Charities!
URL:https://sf-eagle.com/event/beer-bust-11822/
LOCATION:SF Eagle Bar\, 398 12th Street\, San Francisco\, CA\, 94103\, United States
CATEGORIES:Beer Bust
ATTACH;FMTTYPE=image/webp:https://sf-eagle.com/wp-content/uploads/2024/01/Beer-Bust-Banner.webp
END:VEVENT
BEGIN:VEVENT
DTSTART;TZID=America/Los_Angeles:20250511T150000
DTEND;TZID=America/Los_Angeles:20250511T190000
DTSTAMP:20260425T111343
CREATED:20260217T042335Z
LAST-MODIFIED:20260217T042335Z
UID:10023584-1746975600-1746990000@sf-eagle.com
SUMMARY:Beer Bust
DESCRIPTION:Join us for world famous SF Eagle Beer Bust every Sunday benefitting local LGBTQ+ Non Profits and Charities!
URL:https://sf-eagle.com/event/beer-bust-11823/
LOCATION:SF Eagle Bar\, 398 12th Street\, San Francisco\, CA\, 94103\, United States
CATEGORIES:Beer Bust
ATTACH;FMTTYPE=image/webp:https://sf-eagle.com/wp-content/uploads/2024/01/Beer-Bust-Banner.webp
END:VEVENT
BEGIN:VEVENT
DTSTART;TZID=America/Los_Angeles:20250511T150000
DTEND;TZID=America/Los_Angeles:20250511T190000
DTSTAMP:20260425T111343
CREATED:20260217T043834Z
LAST-MODIFIED:20260217T043834Z
UID:10023585-1746975600-1746990000@sf-eagle.com
SUMMARY:Beer Bust
DESCRIPTION:Join us for world famous SF Eagle Beer Bust every Sunday benefitting local LGBTQ+ Non Profits and Charities!
URL:https://sf-eagle.com/event/beer-bust-11824/
LOCATION:SF Eagle Bar\, 398 12th Street\, San Francisco\, CA\, 94103\, United States
CATEGORIES:Beer Bust
ATTACH;FMTTYPE=image/webp:https://sf-eagle.com/wp-content/uploads/2024/01/Beer-Bust-Banner.webp
END:VEVENT
BEGIN:VEVENT
DTSTART;TZID=America/Los_Angeles:20250511T150000
DTEND;TZID=America/Los_Angeles:20250511T190000
DTSTAMP:20260425T111343
CREATED:20260217T045335Z
LAST-MODIFIED:20260217T045335Z
UID:10023586-1746975600-1746990000@sf-eagle.com
SUMMARY:Beer Bust
DESCRIPTION:Join us for world famous SF Eagle Beer Bust every Sunday benefitting local LGBTQ+ Non Profits and Charities!
URL:https://sf-eagle.com/event/beer-bust-11825/
LOCATION:SF Eagle Bar\, 398 12th Street\, San Francisco\, CA\, 94103\, United States
CATEGORIES:Beer Bust
ATTACH;FMTTYPE=image/webp:https://sf-eagle.com/wp-content/uploads/2024/01/Beer-Bust-Banner.webp
END:VEVENT
BEGIN:VEVENT
DTSTART;TZID=America/Los_Angeles:20250511T150000
DTEND;TZID=America/Los_Angeles:20250511T190000
DTSTAMP:20260425T111343
CREATED:20260217T050835Z
LAST-MODIFIED:20260217T050835Z
UID:10023587-1746975600-1746990000@sf-eagle.com
SUMMARY:Beer Bust
DESCRIPTION:Join us for world famous SF Eagle Beer Bust every Sunday benefitting local LGBTQ+ Non Profits and Charities!
URL:https://sf-eagle.com/event/beer-bust-11826/
LOCATION:SF Eagle Bar\, 398 12th Street\, San Francisco\, CA\, 94103\, United States
CATEGORIES:Beer Bust
ATTACH;FMTTYPE=image/webp:https://sf-eagle.com/wp-content/uploads/2024/01/Beer-Bust-Banner.webp
END:VEVENT
BEGIN:VEVENT
DTSTART;TZID=America/Los_Angeles:20250511T150000
DTEND;TZID=America/Los_Angeles:20250511T190000
DTSTAMP:20260425T111343
CREATED:20260217T052335Z
LAST-MODIFIED:20260217T052335Z
UID:10023588-1746975600-1746990000@sf-eagle.com
SUMMARY:Beer Bust
DESCRIPTION:Join us for world famous SF Eagle Beer Bust every Sunday benefitting local LGBTQ+ Non Profits and Charities!
URL:https://sf-eagle.com/event/beer-bust-11827/
LOCATION:SF Eagle Bar\, 398 12th Street\, San Francisco\, CA\, 94103\, United States
CATEGORIES:Beer Bust
ATTACH;FMTTYPE=image/webp:https://sf-eagle.com/wp-content/uploads/2024/01/Beer-Bust-Banner.webp
END:VEVENT
BEGIN:VEVENT
DTSTART;TZID=America/Los_Angeles:20250511T150000
DTEND;TZID=America/Los_Angeles:20250511T190000
DTSTAMP:20260425T111343
CREATED:20260217T053835Z
LAST-MODIFIED:20260217T053835Z
UID:10023589-1746975600-1746990000@sf-eagle.com
SUMMARY:Beer Bust
DESCRIPTION:Join us for world famous SF Eagle Beer Bust every Sunday benefitting local LGBTQ+ Non Profits and Charities!
URL:https://sf-eagle.com/event/beer-bust-11828/
LOCATION:SF Eagle Bar\, 398 12th Street\, San Francisco\, CA\, 94103\, United States
CATEGORIES:Beer Bust
ATTACH;FMTTYPE=image/webp:https://sf-eagle.com/wp-content/uploads/2024/01/Beer-Bust-Banner.webp
END:VEVENT
BEGIN:VEVENT
DTSTART;TZID=America/Los_Angeles:20250511T150000
DTEND;TZID=America/Los_Angeles:20250511T190000
DTSTAMP:20260425T111343
CREATED:20260217T055335Z
LAST-MODIFIED:20260217T055335Z
UID:10023590-1746975600-1746990000@sf-eagle.com
SUMMARY:Beer Bust
DESCRIPTION:Join us for world famous SF Eagle Beer Bust every Sunday benefitting local LGBTQ+ Non Profits and Charities!
URL:https://sf-eagle.com/event/beer-bust-11829/
LOCATION:SF Eagle Bar\, 398 12th Street\, San Francisco\, CA\, 94103\, United States
CATEGORIES:Beer Bust
ATTACH;FMTTYPE=image/webp:https://sf-eagle.com/wp-content/uploads/2024/01/Beer-Bust-Banner.webp
END:VEVENT
BEGIN:VEVENT
DTSTART;TZID=America/Los_Angeles:20250511T150000
DTEND;TZID=America/Los_Angeles:20250511T190000
DTSTAMP:20260425T111343
CREATED:20260217T060836Z
LAST-MODIFIED:20260217T060836Z
UID:10023591-1746975600-1746990000@sf-eagle.com
SUMMARY:Beer Bust
DESCRIPTION:Join us for world famous SF Eagle Beer Bust every Sunday benefitting local LGBTQ+ Non Profits and Charities!
URL:https://sf-eagle.com/event/beer-bust-11830/
LOCATION:SF Eagle Bar\, 398 12th Street\, San Francisco\, CA\, 94103\, United States
CATEGORIES:Beer Bust
ATTACH;FMTTYPE=image/webp:https://sf-eagle.com/wp-content/uploads/2024/01/Beer-Bust-Banner.webp
END:VEVENT
BEGIN:VEVENT
DTSTART;TZID=America/Los_Angeles:20250511T150000
DTEND;TZID=America/Los_Angeles:20250511T190000
DTSTAMP:20260425T111343
CREATED:20260217T062413Z
LAST-MODIFIED:20260217T062413Z
UID:10023592-1746975600-1746990000@sf-eagle.com
SUMMARY:Beer Bust
DESCRIPTION:Join us for world famous SF Eagle Beer Bust every Sunday benefitting local LGBTQ+ Non Profits and Charities!
URL:https://sf-eagle.com/event/beer-bust-11831/
LOCATION:SF Eagle Bar\, 398 12th Street\, San Francisco\, CA\, 94103\, United States
CATEGORIES:Beer Bust
ATTACH;FMTTYPE=image/webp:https://sf-eagle.com/wp-content/uploads/2024/01/Beer-Bust-Banner.webp
END:VEVENT
BEGIN:VEVENT
DTSTART;TZID=America/Los_Angeles:20250511T150000
DTEND;TZID=America/Los_Angeles:20250511T190000
DTSTAMP:20260425T111343
CREATED:20260217T063845Z
LAST-MODIFIED:20260217T063845Z
UID:10023593-1746975600-1746990000@sf-eagle.com
SUMMARY:Beer Bust
DESCRIPTION:Join us for world famous SF Eagle Beer Bust every Sunday benefitting local LGBTQ+ Non Profits and Charities!
URL:https://sf-eagle.com/event/beer-bust-11832/
LOCATION:SF Eagle Bar\, 398 12th Street\, San Francisco\, CA\, 94103\, United States
CATEGORIES:Beer Bust
ATTACH;FMTTYPE=image/webp:https://sf-eagle.com/wp-content/uploads/2024/01/Beer-Bust-Banner.webp
END:VEVENT
BEGIN:VEVENT
DTSTART;TZID=America/Los_Angeles:20250511T150000
DTEND;TZID=America/Los_Angeles:20250511T190000
DTSTAMP:20260425T111343
CREATED:20260217T065335Z
LAST-MODIFIED:20260217T065335Z
UID:10023594-1746975600-1746990000@sf-eagle.com
SUMMARY:Beer Bust
DESCRIPTION:Join us for world famous SF Eagle Beer Bust every Sunday benefitting local LGBTQ+ Non Profits and Charities!
URL:https://sf-eagle.com/event/beer-bust-11833/
LOCATION:SF Eagle Bar\, 398 12th Street\, San Francisco\, CA\, 94103\, United States
CATEGORIES:Beer Bust
ATTACH;FMTTYPE=image/webp:https://sf-eagle.com/wp-content/uploads/2024/01/Beer-Bust-Banner.webp
END:VEVENT
BEGIN:VEVENT
DTSTART;TZID=America/Los_Angeles:20250511T150000
DTEND;TZID=America/Los_Angeles:20250511T190000
DTSTAMP:20260425T111343
CREATED:20260217T070835Z
LAST-MODIFIED:20260217T070835Z
UID:10023595-1746975600-1746990000@sf-eagle.com
SUMMARY:Beer Bust
DESCRIPTION:Join us for world famous SF Eagle Beer Bust every Sunday benefitting local LGBTQ+ Non Profits and Charities!
URL:https://sf-eagle.com/event/beer-bust-11834/
LOCATION:SF Eagle Bar\, 398 12th Street\, San Francisco\, CA\, 94103\, United States
CATEGORIES:Beer Bust
ATTACH;FMTTYPE=image/webp:https://sf-eagle.com/wp-content/uploads/2024/01/Beer-Bust-Banner.webp
END:VEVENT
BEGIN:VEVENT
DTSTART;TZID=America/Los_Angeles:20250511T150000
DTEND;TZID=America/Los_Angeles:20250511T190000
DTSTAMP:20260425T111343
CREATED:20260217T072347Z
LAST-MODIFIED:20260217T072347Z
UID:10023596-1746975600-1746990000@sf-eagle.com
SUMMARY:Beer Bust
DESCRIPTION:Join us for world famous SF Eagle Beer Bust every Sunday benefitting local LGBTQ+ Non Profits and Charities!
URL:https://sf-eagle.com/event/beer-bust-11835/
LOCATION:SF Eagle Bar\, 398 12th Street\, San Francisco\, CA\, 94103\, United States
CATEGORIES:Beer Bust
ATTACH;FMTTYPE=image/webp:https://sf-eagle.com/wp-content/uploads/2024/01/Beer-Bust-Banner.webp
END:VEVENT
BEGIN:VEVENT
DTSTART;TZID=America/Los_Angeles:20250511T150000
DTEND;TZID=America/Los_Angeles:20250511T190000
DTSTAMP:20260425T111343
CREATED:20260217T073836Z
LAST-MODIFIED:20260217T073836Z
UID:10023597-1746975600-1746990000@sf-eagle.com
SUMMARY:Beer Bust
DESCRIPTION:Join us for world famous SF Eagle Beer Bust every Sunday benefitting local LGBTQ+ Non Profits and Charities!
URL:https://sf-eagle.com/event/beer-bust-11836/
LOCATION:SF Eagle Bar\, 398 12th Street\, San Francisco\, CA\, 94103\, United States
CATEGORIES:Beer Bust
ATTACH;FMTTYPE=image/webp:https://sf-eagle.com/wp-content/uploads/2024/01/Beer-Bust-Banner.webp
END:VEVENT
BEGIN:VEVENT
DTSTART;TZID=America/Los_Angeles:20250511T150000
DTEND;TZID=America/Los_Angeles:20250511T190000
DTSTAMP:20260425T111343
CREATED:20260217T075334Z
LAST-MODIFIED:20260217T075334Z
UID:10023598-1746975600-1746990000@sf-eagle.com
SUMMARY:Beer Bust
DESCRIPTION:Join us for world famous SF Eagle Beer Bust every Sunday benefitting local LGBTQ+ Non Profits and Charities!
URL:https://sf-eagle.com/event/beer-bust-11837/
LOCATION:SF Eagle Bar\, 398 12th Street\, San Francisco\, CA\, 94103\, United States
CATEGORIES:Beer Bust
ATTACH;FMTTYPE=image/webp:https://sf-eagle.com/wp-content/uploads/2024/01/Beer-Bust-Banner.webp
END:VEVENT
BEGIN:VEVENT
DTSTART;TZID=America/Los_Angeles:20250511T150000
DTEND;TZID=America/Los_Angeles:20250511T190000
DTSTAMP:20260425T111343
CREATED:20260217T080834Z
LAST-MODIFIED:20260217T080834Z
UID:10023599-1746975600-1746990000@sf-eagle.com
SUMMARY:Beer Bust
DESCRIPTION:Join us for world famous SF Eagle Beer Bust every Sunday benefitting local LGBTQ+ Non Profits and Charities!
URL:https://sf-eagle.com/event/beer-bust-11838/
LOCATION:SF Eagle Bar\, 398 12th Street\, San Francisco\, CA\, 94103\, United States
CATEGORIES:Beer Bust
ATTACH;FMTTYPE=image/webp:https://sf-eagle.com/wp-content/uploads/2024/01/Beer-Bust-Banner.webp
END:VEVENT
BEGIN:VEVENT
DTSTART;TZID=America/Los_Angeles:20250511T150000
DTEND;TZID=America/Los_Angeles:20250511T190000
DTSTAMP:20260425T111343
CREATED:20260217T082416Z
LAST-MODIFIED:20260217T082416Z
UID:10023600-1746975600-1746990000@sf-eagle.com
SUMMARY:Beer Bust
DESCRIPTION:Join us for world famous SF Eagle Beer Bust every Sunday benefitting local LGBTQ+ Non Profits and Charities!
URL:https://sf-eagle.com/event/beer-bust-11839/
LOCATION:SF Eagle Bar\, 398 12th Street\, San Francisco\, CA\, 94103\, United States
CATEGORIES:Beer Bust
ATTACH;FMTTYPE=image/webp:https://sf-eagle.com/wp-content/uploads/2024/01/Beer-Bust-Banner.webp
END:VEVENT
BEGIN:VEVENT
DTSTART;TZID=America/Los_Angeles:20250511T150000
DTEND;TZID=America/Los_Angeles:20250511T190000
DTSTAMP:20260425T111343
CREATED:20260217T083837Z
LAST-MODIFIED:20260217T083837Z
UID:10023602-1746975600-1746990000@sf-eagle.com
SUMMARY:Beer Bust
DESCRIPTION:Join us for world famous SF Eagle Beer Bust every Sunday benefitting local LGBTQ+ Non Profits and Charities!
URL:https://sf-eagle.com/event/beer-bust-11841/
LOCATION:SF Eagle Bar\, 398 12th Street\, San Francisco\, CA\, 94103\, United States
CATEGORIES:Beer Bust
ATTACH;FMTTYPE=image/webp:https://sf-eagle.com/wp-content/uploads/2024/01/Beer-Bust-Banner.webp
END:VEVENT
BEGIN:VEVENT
DTSTART;TZID=America/Los_Angeles:20250511T150000
DTEND;TZID=America/Los_Angeles:20250511T190000
DTSTAMP:20260425T111343
CREATED:20260217T083837Z
LAST-MODIFIED:20260217T083837Z
UID:10023601-1746975600-1746990000@sf-eagle.com
SUMMARY:Beer Bust
DESCRIPTION:Join us for world famous SF Eagle Beer Bust every Sunday benefitting local LGBTQ+ Non Profits and Charities!
URL:https://sf-eagle.com/event/beer-bust-11840/
LOCATION:SF Eagle Bar\, 398 12th Street\, San Francisco\, CA\, 94103\, United States
CATEGORIES:Beer Bust
ATTACH;FMTTYPE=image/webp:https://sf-eagle.com/wp-content/uploads/2024/01/Beer-Bust-Banner.webp
END:VEVENT
BEGIN:VEVENT
DTSTART;TZID=America/Los_Angeles:20250511T150000
DTEND;TZID=America/Los_Angeles:20250511T190000
DTSTAMP:20260425T111343
CREATED:20260217T085335Z
LAST-MODIFIED:20260217T085335Z
UID:10023603-1746975600-1746990000@sf-eagle.com
SUMMARY:Beer Bust
DESCRIPTION:Join us for world famous SF Eagle Beer Bust every Sunday benefitting local LGBTQ+ Non Profits and Charities!
URL:https://sf-eagle.com/event/beer-bust-11842/
LOCATION:SF Eagle Bar\, 398 12th Street\, San Francisco\, CA\, 94103\, United States
CATEGORIES:Beer Bust
ATTACH;FMTTYPE=image/webp:https://sf-eagle.com/wp-content/uploads/2024/01/Beer-Bust-Banner.webp
END:VEVENT
BEGIN:VEVENT
DTSTART;TZID=America/Los_Angeles:20250511T150000
DTEND;TZID=America/Los_Angeles:20250511T190000
DTSTAMP:20260425T111343
CREATED:20260217T090835Z
LAST-MODIFIED:20260217T090835Z
UID:10023604-1746975600-1746990000@sf-eagle.com
SUMMARY:Beer Bust
DESCRIPTION:Join us for world famous SF Eagle Beer Bust every Sunday benefitting local LGBTQ+ Non Profits and Charities!
URL:https://sf-eagle.com/event/beer-bust-11843/
LOCATION:SF Eagle Bar\, 398 12th Street\, San Francisco\, CA\, 94103\, United States
CATEGORIES:Beer Bust
ATTACH;FMTTYPE=image/webp:https://sf-eagle.com/wp-content/uploads/2024/01/Beer-Bust-Banner.webp
END:VEVENT
BEGIN:VEVENT
DTSTART;TZID=America/Los_Angeles:20250511T150000
DTEND;TZID=America/Los_Angeles:20250511T190000
DTSTAMP:20260425T111343
CREATED:20260217T092336Z
LAST-MODIFIED:20260217T092336Z
UID:10023605-1746975600-1746990000@sf-eagle.com
SUMMARY:Beer Bust
DESCRIPTION:Join us for world famous SF Eagle Beer Bust every Sunday benefitting local LGBTQ+ Non Profits and Charities!
URL:https://sf-eagle.com/event/beer-bust-11844/
LOCATION:SF Eagle Bar\, 398 12th Street\, San Francisco\, CA\, 94103\, United States
CATEGORIES:Beer Bust
ATTACH;FMTTYPE=image/webp:https://sf-eagle.com/wp-content/uploads/2024/01/Beer-Bust-Banner.webp
END:VEVENT
END:VCALENDAR