BEGIN:VCALENDAR
VERSION:2.0
PRODID:-//SF EAGLE - ECPv6.15.20//NONSGML v1.0//EN
CALSCALE:GREGORIAN
METHOD:PUBLISH
X-WR-CALNAME:SF EAGLE
X-ORIGINAL-URL:https://sf-eagle.com
X-WR-CALDESC:Events for SF EAGLE
REFRESH-INTERVAL;VALUE=DURATION:PT1H
X-Robots-Tag:noindex
X-PUBLISHED-TTL:PT1H
BEGIN:VTIMEZONE
TZID:America/Los_Angeles
BEGIN:DAYLIGHT
TZOFFSETFROM:-0800
TZOFFSETTO:-0700
TZNAME:PDT
DTSTART:20250309T100000
END:DAYLIGHT
BEGIN:STANDARD
TZOFFSETFROM:-0700
TZOFFSETTO:-0800
TZNAME:PST
DTSTART:20251102T090000
END:STANDARD
BEGIN:DAYLIGHT
TZOFFSETFROM:-0800
TZOFFSETTO:-0700
TZNAME:PDT
DTSTART:20260308T100000
END:DAYLIGHT
BEGIN:STANDARD
TZOFFSETFROM:-0700
TZOFFSETTO:-0800
TZNAME:PST
DTSTART:20261101T090000
END:STANDARD
BEGIN:DAYLIGHT
TZOFFSETFROM:-0800
TZOFFSETTO:-0700
TZNAME:PDT
DTSTART:20270314T100000
END:DAYLIGHT
BEGIN:STANDARD
TZOFFSETFROM:-0700
TZOFFSETTO:-0800
TZNAME:PST
DTSTART:20271107T090000
END:STANDARD
END:VTIMEZONE
BEGIN:VEVENT
DTSTART;TZID=America/Los_Angeles:20260718T210000
DTEND;TZID=America/Los_Angeles:20260719T020000
DTSTAMP:20260420T005400
CREATED:20251029T061908Z
LAST-MODIFIED:20251029T061909Z
UID:10012137-1784408400-1784426400@sf-eagle.com
SUMMARY:YoungHearts
DESCRIPTION:
URL:https://sf-eagle.com/event/younghearts/2026-07-18/
LOCATION:SF Eagle Bar\, 398 12th Street\, San Francisco\, CA\, 94103\, United States
CATEGORIES:Young Hearts
ATTACH;FMTTYPE=image/jpeg:https://sf-eagle.com/wp-content/uploads/2025/10/YOUNGHEARTSPlaceHolder.avif
END:VEVENT
BEGIN:VEVENT
DTSTART;TZID=America/Los_Angeles:20260718T210000
DTEND;TZID=America/Los_Angeles:20260719T020000
DTSTAMP:20260420T005400
CREATED:20260411T181102Z
LAST-MODIFIED:20260411T191532Z
UID:10025070-1784408400-1784426400@sf-eagle.com
SUMMARY:Young Hearts
DESCRIPTION:
URL:https://sf-eagle.com/event/younghearts-7/2026-07-18/
LOCATION:SF Eagle Bar\, 398 12th Street\, San Francisco\, CA\, 94103\, United States
CATEGORIES:Young Hearts
ATTACH;FMTTYPE=image/jpeg:https://sf-eagle.com/wp-content/uploads/2025/10/YHApril-Web.avif
END:VEVENT
END:VCALENDAR