BEGIN:VCALENDAR
VERSION:2.0
PRODID:-//SF EAGLE - ECPv6.15.20//NONSGML v1.0//EN
CALSCALE:GREGORIAN
METHOD:PUBLISH
X-WR-CALNAME:SF EAGLE
X-ORIGINAL-URL:https://sf-eagle.com
X-WR-CALDESC:Events for SF EAGLE
REFRESH-INTERVAL;VALUE=DURATION:PT1H
X-Robots-Tag:noindex
X-PUBLISHED-TTL:PT1H
BEGIN:VTIMEZONE
TZID:America/Los_Angeles
BEGIN:DAYLIGHT
TZOFFSETFROM:-0800
TZOFFSETTO:-0700
TZNAME:PDT
DTSTART:20240310T100000
END:DAYLIGHT
BEGIN:STANDARD
TZOFFSETFROM:-0700
TZOFFSETTO:-0800
TZNAME:PST
DTSTART:20241103T090000
END:STANDARD
BEGIN:DAYLIGHT
TZOFFSETFROM:-0800
TZOFFSETTO:-0700
TZNAME:PDT
DTSTART:20250309T100000
END:DAYLIGHT
BEGIN:STANDARD
TZOFFSETFROM:-0700
TZOFFSETTO:-0800
TZNAME:PST
DTSTART:20251102T090000
END:STANDARD
BEGIN:DAYLIGHT
TZOFFSETFROM:-0800
TZOFFSETTO:-0700
TZNAME:PDT
DTSTART:20260308T100000
END:DAYLIGHT
BEGIN:STANDARD
TZOFFSETFROM:-0700
TZOFFSETTO:-0800
TZNAME:PST
DTSTART:20261101T090000
END:STANDARD
END:VTIMEZONE
BEGIN:VEVENT
DTSTART;TZID=America/Los_Angeles:20250919T210000
DTEND;TZID=America/Los_Angeles:20250920T020000
DTSTAMP:20260421T193621
CREATED:20250914T013229Z
LAST-MODIFIED:20250914T013229Z
UID:10004072-1758315600-1758333600@sf-eagle.com
SUMMARY:Jizznasium
DESCRIPTION:Join us for one last Squirt as Jizznasium throws in the towel so to speak! The filthiest gym you never joined is calling all members and nonmembers to cum and…. and have fun for the last night in SF!
URL:https://sf-eagle.com/event/jizznasium-2-3/
LOCATION:SF Eagle Bar\, 398 12th Street\, San Francisco\, CA\, 94103\, United States
CATEGORIES:Underwear
ATTACH;FMTTYPE=image/jpeg:https://sf-eagle.com/wp-content/uploads/2024/12/JizzOctWeb.avif
END:VEVENT
END:VCALENDAR