BEGIN:VCALENDAR
VERSION:2.0
PRODID:-//SF EAGLE - ECPv6.15.20//NONSGML v1.0//EN
CALSCALE:GREGORIAN
METHOD:PUBLISH
X-WR-CALNAME:SF EAGLE
X-ORIGINAL-URL:https://sf-eagle.com
X-WR-CALDESC:Events for SF EAGLE
REFRESH-INTERVAL;VALUE=DURATION:PT1H
X-Robots-Tag:noindex
X-PUBLISHED-TTL:PT1H
BEGIN:VTIMEZONE
TZID:America/Los_Angeles
BEGIN:DAYLIGHT
TZOFFSETFROM:-0800
TZOFFSETTO:-0700
TZNAME:PDT
DTSTART:20240310T100000
END:DAYLIGHT
BEGIN:STANDARD
TZOFFSETFROM:-0700
TZOFFSETTO:-0800
TZNAME:PST
DTSTART:20241103T090000
END:STANDARD
BEGIN:DAYLIGHT
TZOFFSETFROM:-0800
TZOFFSETTO:-0700
TZNAME:PDT
DTSTART:20250309T100000
END:DAYLIGHT
BEGIN:STANDARD
TZOFFSETFROM:-0700
TZOFFSETTO:-0800
TZNAME:PST
DTSTART:20251102T090000
END:STANDARD
BEGIN:DAYLIGHT
TZOFFSETFROM:-0800
TZOFFSETTO:-0700
TZNAME:PDT
DTSTART:20260308T100000
END:DAYLIGHT
BEGIN:STANDARD
TZOFFSETFROM:-0700
TZOFFSETTO:-0800
TZNAME:PST
DTSTART:20261101T090000
END:STANDARD
END:VTIMEZONE
BEGIN:VEVENT
DTSTART;TZID=America/Los_Angeles:20250718T210000
DTEND;TZID=America/Los_Angeles:20250719T020000
DTSTAMP:20260422T011421
CREATED:20250716T165310Z
LAST-MODIFIED:20250716T165312Z
UID:10004070-1752872400-1752890400@sf-eagle.com
SUMMARY:Jizznasium
DESCRIPTION:Jizznasium: Voted the most fun you can have in a towel outside of Berkeley by no-one is back with smokin’ hot studs wrapped up like pigs in a blanket! Join Starkey and DJ Sammy Taylor for a night of lust fueled encounters. “Count on Loads” of fun with a contest featuring prizes from MR S Leather and Steamworks!
URL:https://sf-eagle.com/event/jizznasium-2-2/
LOCATION:SF Eagle Bar\, 398 12th Street\, San Francisco\, CA\, 94103\, United States
CATEGORIES:Underwear
ATTACH;FMTTYPE=image/jpeg:https://sf-eagle.com/wp-content/uploads/2024/12/JizzJulyWeb.avif
END:VEVENT
END:VCALENDAR