BEGIN:VCALENDAR
VERSION:2.0
PRODID:-//SF EAGLE - ECPv6.15.20//NONSGML v1.0//EN
CALSCALE:GREGORIAN
METHOD:PUBLISH
X-ORIGINAL-URL:https://sf-eagle.com
X-WR-CALDESC:Events for SF EAGLE
REFRESH-INTERVAL;VALUE=DURATION:PT1H
X-Robots-Tag:noindex
X-PUBLISHED-TTL:PT1H
BEGIN:VTIMEZONE
TZID:America/Los_Angeles
BEGIN:DAYLIGHT
TZOFFSETFROM:-0800
TZOFFSETTO:-0700
TZNAME:PDT
DTSTART:20240310T100000
END:DAYLIGHT
BEGIN:STANDARD
TZOFFSETFROM:-0700
TZOFFSETTO:-0800
TZNAME:PST
DTSTART:20241103T090000
END:STANDARD
BEGIN:DAYLIGHT
TZOFFSETFROM:-0800
TZOFFSETTO:-0700
TZNAME:PDT
DTSTART:20250309T100000
END:DAYLIGHT
BEGIN:STANDARD
TZOFFSETFROM:-0700
TZOFFSETTO:-0800
TZNAME:PST
DTSTART:20251102T090000
END:STANDARD
BEGIN:DAYLIGHT
TZOFFSETFROM:-0800
TZOFFSETTO:-0700
TZNAME:PDT
DTSTART:20260308T100000
END:DAYLIGHT
BEGIN:STANDARD
TZOFFSETFROM:-0700
TZOFFSETTO:-0800
TZNAME:PST
DTSTART:20261101T090000
END:STANDARD
BEGIN:DAYLIGHT
TZOFFSETFROM:-0800
TZOFFSETTO:-0700
TZNAME:PDT
DTSTART:20270314T100000
END:DAYLIGHT
BEGIN:STANDARD
TZOFFSETFROM:-0700
TZOFFSETTO:-0800
TZNAME:PST
DTSTART:20271107T090000
END:STANDARD
END:VTIMEZONE
BEGIN:VEVENT
DTSTART;TZID=America/Los_Angeles:20260403T210000
DTEND;TZID=America/Los_Angeles:20260404T020000
DTSTAMP:20260421T070605
CREATED:20240105T054527Z
LAST-MODIFIED:20250119T192528Z
UID:10000030-1775250000-1775268000@sf-eagle.com
SUMMARY:Adonis
DESCRIPTION:All you need is a horny smile to join the cult of ADONIS. Join us at the Eagle tavern every first Friday for the monthly fraternal gathering. Leave your clothes and modern sensibilities at the clothes check and sample each other’s grapes. Dance with your countrymen or take a new friend to the dark room for a little brotherly love.\nDJ Brian Urmanita provides the horny beats\, you provide the timeless culture.\nProduced and hosted by Andrew Dombos
URL:https://sf-eagle.com/event/adonis/2026-04-03/
LOCATION:SF Eagle Bar\, 398 12th Street\, San Francisco\, CA\, 94103\, United States
CATEGORIES:Clubbing,Party Play,Underwear
ATTACH;FMTTYPE=image/jpeg:https://sf-eagle.com/wp-content/uploads/2024/11/Facebook-Event-Banner.avif
END:VEVENT
BEGIN:VEVENT
DTSTART;TZID=America/Los_Angeles:20260328T210000
DTEND;TZID=America/Los_Angeles:20260329T020000
DTSTAMP:20260421T070605
CREATED:20260304T201330Z
LAST-MODIFIED:20260304T201454Z
UID:10025041-1774731600-1774749600@sf-eagle.com
SUMMARY:Onesies Party
DESCRIPTION:Join us for our Onesies Party with DJ Phil B
URL:https://sf-eagle.com/event/onesies-party-3/
LOCATION:SF Eagle Bar\, 398 12th Street\, San Francisco\, CA\, 94103\, United States
CATEGORIES:Underwear
ATTACH;FMTTYPE=image/jpeg:https://sf-eagle.com/wp-content/uploads/2026/03/onesie.party_.Marchweb-1.avif
END:VEVENT
BEGIN:VEVENT
DTSTART;TZID=America/Los_Angeles:20251128T210000
DTEND;TZID=America/Los_Angeles:20251129T020000
DTSTAMP:20260421T070605
CREATED:20251105T212250Z
LAST-MODIFIED:20251110T183353Z
UID:10013189-1764363600-1764381600@sf-eagle.com
SUMMARY:Black Light Friday
DESCRIPTION:Black Friday is here! Get the neon out it’s time to Glow!Body Painting Station Hosted by Suppositori Spelling Day Glo GoGo’s and DJ Dakota Pendant Clothes check avalaible so strip down!9pm- 2am $10
URL:https://sf-eagle.com/event/back-light-friday/
LOCATION:SF Eagle Bar\, 398 12th Street\, San Francisco\, CA\, 94103\, United States
CATEGORIES:Underwear
ATTACH;FMTTYPE=image/jpeg:https://sf-eagle.com/wp-content/uploads/2025/11/BlackLight.2025.novWEb.avif
END:VEVENT
END:VCALENDAR